BEGIN:VCALENDAR
VERSION:2.0
PRODID:-//Mariemont Elementary School PTA - ECPv6.15.20//NONSGML v1.0//EN
CALSCALE:GREGORIAN
METHOD:PUBLISH
X-WR-CALNAME:Mariemont Elementary School PTA
X-ORIGINAL-URL:https://mariemontpta.org
X-WR-CALDESC:Events for Mariemont Elementary School PTA
REFRESH-INTERVAL;VALUE=DURATION:PT1H
X-Robots-Tag:noindex
X-PUBLISHED-TTL:PT1H
BEGIN:VTIMEZONE
TZID:America/Los_Angeles
BEGIN:DAYLIGHT
TZOFFSETFROM:-0800
TZOFFSETTO:-0700
TZNAME:PDT
DTSTART:20250309T100000
END:DAYLIGHT
BEGIN:STANDARD
TZOFFSETFROM:-0700
TZOFFSETTO:-0800
TZNAME:PST
DTSTART:20251102T090000
END:STANDARD
BEGIN:DAYLIGHT
TZOFFSETFROM:-0800
TZOFFSETTO:-0700
TZNAME:PDT
DTSTART:20260308T100000
END:DAYLIGHT
BEGIN:STANDARD
TZOFFSETFROM:-0700
TZOFFSETTO:-0800
TZNAME:PST
DTSTART:20261101T090000
END:STANDARD
BEGIN:DAYLIGHT
TZOFFSETFROM:-0800
TZOFFSETTO:-0700
TZNAME:PDT
DTSTART:20270314T100000
END:DAYLIGHT
BEGIN:STANDARD
TZOFFSETFROM:-0700
TZOFFSETTO:-0800
TZNAME:PST
DTSTART:20271107T090000
END:STANDARD
END:VTIMEZONE
BEGIN:VEVENT
DTSTART;VALUE=DATE:20260310
DTEND;VALUE=DATE:20260311
DTSTAMP:20260425T150511
CREATED:20260114T010826Z
LAST-MODIFIED:20260114T010826Z
UID:3471-1773100800-1773187199@mariemontpta.org
SUMMARY:Dine and Donate (Chipotle)
DESCRIPTION:
URL:https://mariemontpta.org/calendar/dine-and-donate-chipotle/
END:VEVENT
BEGIN:VEVENT
DTSTART;VALUE=DATE:20260310
DTEND;VALUE=DATE:20260314
DTSTAMP:20260425T150511
CREATED:20260114T010954Z
LAST-MODIFIED:20260114T011008Z
UID:3473-1773100800-1773446399@mariemontpta.org
SUMMARY:Minimum Day (12:05 pm dismissal)
DESCRIPTION:1-5\, 12:05 pm dismissal \nTK/Kinder regular schedule
URL:https://mariemontpta.org/calendar/minimum-days-1205-pm-dismissal/
END:VEVENT
BEGIN:VEVENT
DTSTART;TZID=America/Los_Angeles:20260311T183000
DTEND;TZID=America/Los_Angeles:20260311T200000
DTSTAMP:20260425T150511
CREATED:20260114T011134Z
LAST-MODIFIED:20260114T011134Z
UID:3476-1773253800-1773259200@mariemontpta.org
SUMMARY:PTA Meeting
DESCRIPTION:
URL:https://mariemontpta.org/calendar/pta-meeting-4/
LOCATION:Mariemont Library
END:VEVENT
BEGIN:VEVENT
DTSTART;VALUE=DATE:20260319
DTEND;VALUE=DATE:20260320
DTSTAMP:20260425T150511
CREATED:20260114T011300Z
LAST-MODIFIED:20260114T011300Z
UID:3480-1773878400-1773964799@mariemontpta.org
SUMMARY:Thank You Thursday (Kinder)
DESCRIPTION:
URL:https://mariemontpta.org/calendar/thank-you-thursday-kinder/
END:VEVENT
BEGIN:VEVENT
DTSTART;VALUE=DATE:20260320
DTEND;VALUE=DATE:20260321
DTSTAMP:20260425T150511
CREATED:20260114T011416Z
LAST-MODIFIED:20260114T011416Z
UID:3482-1773964800-1774051199@mariemontpta.org
SUMMARY:World Down Syndrome Day
DESCRIPTION:Wear crazy socks!
URL:https://mariemontpta.org/calendar/world-down-syndrome-day/
END:VEVENT
BEGIN:VEVENT
DTSTART;TZID=America/Los_Angeles:20260320T170000
DTEND;TZID=America/Los_Angeles:20260320T190000
DTSTAMP:20260425T150511
CREATED:20260114T011506Z
LAST-MODIFIED:20260114T011506Z
UID:3484-1774026000-1774033200@mariemontpta.org
SUMMARY:Glow Dance
DESCRIPTION:
URL:https://mariemontpta.org/calendar/glow-dance/
LOCATION:Mariemont Elementary School\, 1401 Corta Way\, Sacramento\, CA\, 95864
END:VEVENT
BEGIN:VEVENT
DTSTART;VALUE=DATE:20260330
DTEND;VALUE=DATE:20260404
DTSTAMP:20260425T150511
CREATED:20260114T011543Z
LAST-MODIFIED:20260114T011543Z
UID:3486-1774828800-1775260799@mariemontpta.org
SUMMARY:NO SCHOOL (Spring Break)
DESCRIPTION:
URL:https://mariemontpta.org/calendar/no-school-spring-break-3/
END:VEVENT
END:VCALENDAR