BEGIN:VCALENDAR
VERSION:2.0
PRODID:-//Mariemont Elementary School PTA - ECPv6.15.20//NONSGML v1.0//EN
CALSCALE:GREGORIAN
METHOD:PUBLISH
X-ORIGINAL-URL:https://mariemontpta.org
X-WR-CALDESC:Events for Mariemont Elementary School PTA
REFRESH-INTERVAL;VALUE=DURATION:PT1H
X-Robots-Tag:noindex
X-PUBLISHED-TTL:PT1H
BEGIN:VTIMEZONE
TZID:America/Los_Angeles
BEGIN:DAYLIGHT
TZOFFSETFROM:-0800
TZOFFSETTO:-0700
TZNAME:PDT
DTSTART:20240310T100000
END:DAYLIGHT
BEGIN:STANDARD
TZOFFSETFROM:-0700
TZOFFSETTO:-0800
TZNAME:PST
DTSTART:20241103T090000
END:STANDARD
BEGIN:DAYLIGHT
TZOFFSETFROM:-0800
TZOFFSETTO:-0700
TZNAME:PDT
DTSTART:20250309T100000
END:DAYLIGHT
BEGIN:STANDARD
TZOFFSETFROM:-0700
TZOFFSETTO:-0800
TZNAME:PST
DTSTART:20251102T090000
END:STANDARD
BEGIN:DAYLIGHT
TZOFFSETFROM:-0800
TZOFFSETTO:-0700
TZNAME:PDT
DTSTART:20260308T100000
END:DAYLIGHT
BEGIN:STANDARD
TZOFFSETFROM:-0700
TZOFFSETTO:-0800
TZNAME:PST
DTSTART:20261101T090000
END:STANDARD
END:VTIMEZONE
BEGIN:VEVENT
DTSTART;VALUE=DATE:20250505
DTEND;VALUE=DATE:20250510
DTSTAMP:20260422T094926
CREATED:20250418T154128Z
LAST-MODIFIED:20250418T154436Z
UID:3258-1746403200-1746835199@mariemontpta.org
SUMMARY:Teacher and Staff Appreciation Week
DESCRIPTION:We are celebrating Teacher and Staff Appreciation the week May 5th-9th\, HOLLYWOOD style! \nLet’s roll out the red carpet and show them how much we appreciate the hard work they do for our kids. The week will be filled with catered meals in the staffroom\, a coffee cart\, flowers\, fan mail\, dress up days and more. As part of the special week\, we’ll also “stock the staffroom” with drinks and snacks.
URL:https://mariemontpta.org/calendar/teacher-and-staff-appreciation-week/
END:VEVENT
BEGIN:VEVENT
DTSTART;TZID=America/Los_Angeles:20250506T090000
DTEND;TZID=America/Los_Angeles:20250507T150000
DTSTAMP:20260422T094926
CREATED:20250319T171840Z
LAST-MODIFIED:20250319T171840Z
UID:3253-1746522000-1746630000@mariemontpta.org
SUMMARY:Safetyville Pedestrian Safety
DESCRIPTION:
URL:https://mariemontpta.org/calendar/safetyville-pedestrian-safety/
END:VEVENT
BEGIN:VEVENT
DTSTART;VALUE=DATE:20250512
DTEND;VALUE=DATE:20250517
DTSTAMP:20260422T094926
CREATED:20250102T221950Z
LAST-MODIFIED:20250102T221950Z
UID:3214-1747008000-1747439999@mariemontpta.org
SUMMARY:Scholastic Spring Book Fair
DESCRIPTION:
URL:https://mariemontpta.org/calendar/scholastic-spring-book-fair-3/
END:VEVENT
BEGIN:VEVENT
DTSTART;VALUE=DATE:20250522
DTEND;VALUE=DATE:20250523
DTSTAMP:20260422T094926
CREATED:20250102T222017Z
LAST-MODIFIED:20250102T222017Z
UID:3217-1747872000-1747958399@mariemontpta.org
SUMMARY:Spring Celebration
DESCRIPTION:
URL:https://mariemontpta.org/calendar/spring-celebration-3/
END:VEVENT
BEGIN:VEVENT
DTSTART;VALUE=DATE:20250523
DTEND;VALUE=DATE:20250524
DTSTAMP:20260422T094926
CREATED:20250102T222141Z
LAST-MODIFIED:20250102T222141Z
UID:3219-1747958400-1748044799@mariemontpta.org
SUMMARY:Minimum Day
DESCRIPTION:
URL:https://mariemontpta.org/calendar/minimum-day-7/
END:VEVENT
BEGIN:VEVENT
DTSTART;VALUE=DATE:20250526
DTEND;VALUE=DATE:20250527
DTSTAMP:20260422T094926
CREATED:20250102T222202Z
LAST-MODIFIED:20250102T222202Z
UID:3221-1748217600-1748303999@mariemontpta.org
SUMMARY:NO SCHOOL: Memorial Day
DESCRIPTION:
URL:https://mariemontpta.org/calendar/no-school-memorial-day-2/
END:VEVENT
BEGIN:VEVENT
DTSTART;VALUE=DATE:20250527
DTEND;VALUE=DATE:20250528
DTSTAMP:20260422T094926
CREATED:20250102T222221Z
LAST-MODIFIED:20250102T222221Z
UID:3223-1748304000-1748390399@mariemontpta.org
SUMMARY:Talent Show
DESCRIPTION:
URL:https://mariemontpta.org/calendar/talent-show-4/
END:VEVENT
END:VCALENDAR