BEGIN:VCALENDAR
VERSION:2.0
PRODID:-//Mariemont Elementary School PTA - ECPv6.15.20//NONSGML v1.0//EN
CALSCALE:GREGORIAN
METHOD:PUBLISH
X-WR-CALNAME:Mariemont Elementary School PTA
X-ORIGINAL-URL:https://mariemontpta.org
X-WR-CALDESC:Events for Mariemont Elementary School PTA
REFRESH-INTERVAL;VALUE=DURATION:PT1H
X-Robots-Tag:noindex
X-PUBLISHED-TTL:PT1H
BEGIN:VTIMEZONE
TZID:America/Los_Angeles
BEGIN:DAYLIGHT
TZOFFSETFROM:-0800
TZOFFSETTO:-0700
TZNAME:PDT
DTSTART:20220313T100000
END:DAYLIGHT
BEGIN:STANDARD
TZOFFSETFROM:-0700
TZOFFSETTO:-0800
TZNAME:PST
DTSTART:20221106T090000
END:STANDARD
BEGIN:DAYLIGHT
TZOFFSETFROM:-0800
TZOFFSETTO:-0700
TZNAME:PDT
DTSTART:20230312T100000
END:DAYLIGHT
BEGIN:STANDARD
TZOFFSETFROM:-0700
TZOFFSETTO:-0800
TZNAME:PST
DTSTART:20231105T090000
END:STANDARD
BEGIN:DAYLIGHT
TZOFFSETFROM:-0800
TZOFFSETTO:-0700
TZNAME:PDT
DTSTART:20240310T100000
END:DAYLIGHT
BEGIN:STANDARD
TZOFFSETFROM:-0700
TZOFFSETTO:-0800
TZNAME:PST
DTSTART:20241103T090000
END:STANDARD
END:VTIMEZONE
BEGIN:VEVENT
DTSTART;TZID=America/Los_Angeles:20230808T083000
DTEND;TZID=America/Los_Angeles:20230808T091500
DTSTAMP:20260423T084918
CREATED:20230804T203754Z
LAST-MODIFIED:20230804T203754Z
UID:2762-1691483400-1691486100@mariemontpta.org
SUMMARY:Teacher Meet & Greet
DESCRIPTION:Teachers will greet their students for the 2023-2024 school year before school starts. Please join us on Tuesday\, August 8th between 8:30 am-9:15 am to meet your teacher.
URL:https://mariemontpta.org/calendar/teacher-meet-greet/
LOCATION:Mariemont Elementary School\, 1401 Corta Way\, Sacramento\, CA\, 95864
END:VEVENT
BEGIN:VEVENT
DTSTART;TZID=America/Los_Angeles:20230810T085500
DTEND;TZID=America/Los_Angeles:20230810T141000
DTSTAMP:20260423T084918
CREATED:20230804T203936Z
LAST-MODIFIED:20230804T204035Z
UID:2765-1691657700-1691676600@mariemontpta.org
SUMMARY:FIRST DAY OF SCHOOL (early release)
DESCRIPTION:AM Kindergarten: 8:40 AM – 12 PM\nPM Kindergarten: 11:50 AM – 2:10 PM\nGrades 1st-5th: 8:55 AM- 2:10 PM
URL:https://mariemontpta.org/calendar/first-day-of-school-early-release/
END:VEVENT
BEGIN:VEVENT
DTSTART;TZID=America/Los_Angeles:20230817T180000
DTEND;TZID=America/Los_Angeles:20230817T200000
DTSTAMP:20260423T084918
CREATED:20230804T204218Z
LAST-MODIFIED:20230804T204218Z
UID:2768-1692295200-1692302400@mariemontpta.org
SUMMARY:Back to School Night
DESCRIPTION:Back to School Night is an opportunity for parents\, guardians\, and caregivers to meet your child’s teacher. The teachers will be communicating classroom procedures\, curriculum\, volunteering\, and other pertinent information. We hope you will all be able to attend. \n\n6:00-6:45 PM: Grades 4\, 5\, and AM Kindergarten\n6:45-7:15 PM: Staff/PTA in MP room\n7:15-8:00 PM: Grades 1\, 2\, 3\, and PM Kindergarten
URL:https://mariemontpta.org/calendar/back-to-school-night-3/
END:VEVENT
BEGIN:VEVENT
DTSTART;TZID=America/Los_Angeles:20230818T084000
DTEND;TZID=America/Los_Angeles:20230818T120000
DTSTAMP:20260423T084918
CREATED:20230814T152613Z
LAST-MODIFIED:20230814T152613Z
UID:2814-1692348000-1692360000@mariemontpta.org
SUMMARY:Minimum Day: AM & PM Kinder
DESCRIPTION:
URL:https://mariemontpta.org/calendar/minimum-day-am-pm-kinder/
END:VEVENT
BEGIN:VEVENT
DTSTART;TZID=America/Los_Angeles:20230818T085500
DTEND;TZID=America/Los_Angeles:20230818T130500
DTSTAMP:20260423T084918
CREATED:20230804T204605Z
LAST-MODIFIED:20230814T152537Z
UID:2770-1692348900-1692363900@mariemontpta.org
SUMMARY:Minimum Day: Grades 1-5
DESCRIPTION:
URL:https://mariemontpta.org/calendar/minimum-day-grades-1-5/
END:VEVENT
BEGIN:VEVENT
DTSTART;TZID=America/Los_Angeles:20230831T183000
DTEND;TZID=America/Los_Angeles:20230831T200000
DTSTAMP:20260423T084918
CREATED:20230804T204949Z
LAST-MODIFIED:20230814T152704Z
UID:2772-1693506600-1693512000@mariemontpta.org
SUMMARY:PTA General Board Meeting: IN PERSON
DESCRIPTION:in person … MP room!
URL:https://mariemontpta.org/calendar/mariemont-elementary-pta-general-board-meeting-in-person/
LOCATION:Multi-Purpose Room
END:VEVENT
END:VCALENDAR