BEGIN:VCALENDAR
VERSION:2.0
PRODID:-//Mariemont Elementary School PTA - ECPv6.15.20//NONSGML v1.0//EN
CALSCALE:GREGORIAN
METHOD:PUBLISH
X-ORIGINAL-URL:https://mariemontpta.org
X-WR-CALDESC:Events for Mariemont Elementary School PTA
REFRESH-INTERVAL;VALUE=DURATION:PT1H
X-Robots-Tag:noindex
X-PUBLISHED-TTL:PT1H
BEGIN:VTIMEZONE
TZID:America/Los_Angeles
BEGIN:DAYLIGHT
TZOFFSETFROM:-0800
TZOFFSETTO:-0700
TZNAME:PDT
DTSTART:20200308T100000
END:DAYLIGHT
BEGIN:STANDARD
TZOFFSETFROM:-0700
TZOFFSETTO:-0800
TZNAME:PST
DTSTART:20201101T090000
END:STANDARD
BEGIN:DAYLIGHT
TZOFFSETFROM:-0800
TZOFFSETTO:-0700
TZNAME:PDT
DTSTART:20210314T100000
END:DAYLIGHT
BEGIN:STANDARD
TZOFFSETFROM:-0700
TZOFFSETTO:-0800
TZNAME:PST
DTSTART:20211107T090000
END:STANDARD
BEGIN:DAYLIGHT
TZOFFSETFROM:-0800
TZOFFSETTO:-0700
TZNAME:PDT
DTSTART:20220313T100000
END:DAYLIGHT
BEGIN:STANDARD
TZOFFSETFROM:-0700
TZOFFSETTO:-0800
TZNAME:PST
DTSTART:20221106T090000
END:STANDARD
END:VTIMEZONE
BEGIN:VEVENT
DTSTART;TZID=America/Los_Angeles:20211207T091500
DTEND;TZID=America/Los_Angeles:20211207T150000
DTSTAMP:20260420T092734
CREATED:20211203T184816Z
LAST-MODIFIED:20211203T185918Z
UID:2449-1638868500-1638889200@mariemontpta.org
SUMMARY:Sami's Circuit
DESCRIPTION:Sami is coming to Mariemont. Learn more about his program here.
URL:https://mariemontpta.org/calendar/samis-circuit-2/
END:VEVENT
BEGIN:VEVENT
DTSTART;TZID=America/Los_Angeles:20211209T110000
DTEND;TZID=America/Los_Angeles:20211209T220000
DTSTAMP:20260420T092734
CREATED:20211203T185826Z
LAST-MODIFIED:20211203T185826Z
UID:2451-1639047600-1639087200@mariemontpta.org
SUMMARY:Dine & Donate: Yo-Yo Yogurt
DESCRIPTION:Yo-Yo Yogurt is donating 20% of the proceeds from 11 AM until 10 PM. Please be sure to mention you are from Mariemont Elementary!
URL:https://mariemontpta.org/calendar/dine-donate-yo-yo-yogurt/
END:VEVENT
BEGIN:VEVENT
DTSTART;TZID=America/Los_Angeles:20211209T180000
DTEND;TZID=America/Los_Angeles:20211209T200000
DTSTAMP:20260420T092734
CREATED:20211203T190120Z
LAST-MODIFIED:20211203T190243Z
UID:2453-1639072800-1639080000@mariemontpta.org
SUMMARY:Holiday in the Park
DESCRIPTION:Mariemont is participating in La Sierra Park’s 8th Annual “Holiday in the Park.” Learn more about this festive event here (or check out this flyer):
URL:https://mariemontpta.org/calendar/holiday-in-the-park/
END:VEVENT
BEGIN:VEVENT
DTSTART;TZID=America/Los_Angeles:20211215T084500
DTEND;TZID=America/Los_Angeles:20211215T150000
DTSTAMP:20260420T092734
CREATED:20211203T192812Z
LAST-MODIFIED:20211203T192812Z
UID:2458-1639557900-1639580400@mariemontpta.org
SUMMARY:School picture make-up/retake day
DESCRIPTION:Details to follow …
URL:https://mariemontpta.org/calendar/school-picture-make-up-retake-day/
END:VEVENT
END:VCALENDAR