BEGIN:VCALENDAR
VERSION:2.0
PRODID:-//Mariemont Elementary School PTA - ECPv6.15.20//NONSGML v1.0//EN
CALSCALE:GREGORIAN
METHOD:PUBLISH
X-ORIGINAL-URL:https://mariemontpta.org
X-WR-CALDESC:Events for Mariemont Elementary School PTA
REFRESH-INTERVAL;VALUE=DURATION:PT1H
X-Robots-Tag:noindex
X-PUBLISHED-TTL:PT1H
BEGIN:VTIMEZONE
TZID:America/Los_Angeles
BEGIN:DAYLIGHT
TZOFFSETFROM:-0800
TZOFFSETTO:-0700
TZNAME:PDT
DTSTART:20250309T100000
END:DAYLIGHT
BEGIN:STANDARD
TZOFFSETFROM:-0700
TZOFFSETTO:-0800
TZNAME:PST
DTSTART:20251102T090000
END:STANDARD
BEGIN:DAYLIGHT
TZOFFSETFROM:-0800
TZOFFSETTO:-0700
TZNAME:PDT
DTSTART:20260308T100000
END:DAYLIGHT
BEGIN:STANDARD
TZOFFSETFROM:-0700
TZOFFSETTO:-0800
TZNAME:PST
DTSTART:20261101T090000
END:STANDARD
BEGIN:DAYLIGHT
TZOFFSETFROM:-0800
TZOFFSETTO:-0700
TZNAME:PDT
DTSTART:20270314T100000
END:DAYLIGHT
BEGIN:STANDARD
TZOFFSETFROM:-0700
TZOFFSETTO:-0800
TZNAME:PST
DTSTART:20271107T090000
END:STANDARD
END:VTIMEZONE
BEGIN:VEVENT
DTSTART;TZID=America/Los_Angeles:20260131T083000
DTEND;TZID=America/Los_Angeles:20260131T100000
DTSTAMP:20260425T162818
CREATED:20260114T010551Z
LAST-MODIFIED:20260114T010551Z
UID:3465-1769848200-1769853600@mariemontpta.org
SUMMARY:PJs and Pancakes
DESCRIPTION:Bring the family and enjoy pancakes\, bacon and sausage with your friends! We request a donation of non-perishable food\, which will be donated to the San Juan Unified food bank.
URL:https://mariemontpta.org/calendar/pjs-and-pancakes/
LOCATION:Mariemont Elementary School\, 1401 Corta Way\, Sacramento\, CA\, 95864
END:VEVENT
END:VCALENDAR