BEGIN:VCALENDAR
VERSION:2.0
PRODID:-//Mariemont Elementary School PTA - ECPv6.15.20//NONSGML v1.0//EN
CALSCALE:GREGORIAN
METHOD:PUBLISH
X-ORIGINAL-URL:https://mariemontpta.org
X-WR-CALDESC:Events for Mariemont Elementary School PTA
REFRESH-INTERVAL;VALUE=DURATION:PT1H
X-Robots-Tag:noindex
X-PUBLISHED-TTL:PT1H
BEGIN:VTIMEZONE
TZID:America/Los_Angeles
BEGIN:DAYLIGHT
TZOFFSETFROM:-0800
TZOFFSETTO:-0700
TZNAME:PDT
DTSTART:20220313T100000
END:DAYLIGHT
BEGIN:STANDARD
TZOFFSETFROM:-0700
TZOFFSETTO:-0800
TZNAME:PST
DTSTART:20221106T090000
END:STANDARD
BEGIN:DAYLIGHT
TZOFFSETFROM:-0800
TZOFFSETTO:-0700
TZNAME:PDT
DTSTART:20230312T100000
END:DAYLIGHT
BEGIN:STANDARD
TZOFFSETFROM:-0700
TZOFFSETTO:-0800
TZNAME:PST
DTSTART:20231105T090000
END:STANDARD
BEGIN:DAYLIGHT
TZOFFSETFROM:-0800
TZOFFSETTO:-0700
TZNAME:PDT
DTSTART:20240310T100000
END:DAYLIGHT
BEGIN:STANDARD
TZOFFSETFROM:-0700
TZOFFSETTO:-0800
TZNAME:PST
DTSTART:20241103T090000
END:STANDARD
END:VTIMEZONE
BEGIN:VEVENT
DTSTART;TZID=America/Los_Angeles:20230216T090000
DTEND;TZID=America/Los_Angeles:20230216T150000
DTSTAMP:20260423T021338
CREATED:20190904T213212Z
LAST-MODIFIED:20230118T012931Z
UID:1939-1676538000-1676559600@mariemontpta.org
SUMMARY:Thank You Thursday (1st grade)
DESCRIPTION:One Thursday per month\, a grade level or group will spoil our staff with coffee and treats! Coffee is provided by the PTA; morning and afternoon snacks are donated. Unlike classroom treats\, these can be homemade. When it is your child’s grade level month\, look for an email or Sign-up Genius on how to participate. \nThis Month’s Thank You Thursday is sponsored by 1st grade.
URL:https://mariemontpta.org/calendar/thank-you-thursday-1st/
END:VEVENT
END:VCALENDAR