BEGIN:VCALENDAR
VERSION:2.0
PRODID:-//Mariemont Elementary School PTA - ECPv6.15.20//NONSGML v1.0//EN
CALSCALE:GREGORIAN
METHOD:PUBLISH
X-WR-CALNAME:Mariemont Elementary School PTA
X-ORIGINAL-URL:https://mariemontpta.org
X-WR-CALDESC:Events for Mariemont Elementary School PTA
REFRESH-INTERVAL;VALUE=DURATION:PT1H
X-Robots-Tag:noindex
X-PUBLISHED-TTL:PT1H
BEGIN:VTIMEZONE
TZID:America/Los_Angeles
BEGIN:DAYLIGHT
TZOFFSETFROM:-0800
TZOFFSETTO:-0700
TZNAME:PDT
DTSTART:20220313T100000
END:DAYLIGHT
BEGIN:STANDARD
TZOFFSETFROM:-0700
TZOFFSETTO:-0800
TZNAME:PST
DTSTART:20221106T090000
END:STANDARD
BEGIN:DAYLIGHT
TZOFFSETFROM:-0800
TZOFFSETTO:-0700
TZNAME:PDT
DTSTART:20230312T100000
END:DAYLIGHT
BEGIN:STANDARD
TZOFFSETFROM:-0700
TZOFFSETTO:-0800
TZNAME:PST
DTSTART:20231105T090000
END:STANDARD
BEGIN:DAYLIGHT
TZOFFSETFROM:-0800
TZOFFSETTO:-0700
TZNAME:PDT
DTSTART:20240310T100000
END:DAYLIGHT
BEGIN:STANDARD
TZOFFSETFROM:-0700
TZOFFSETTO:-0800
TZNAME:PST
DTSTART:20241103T090000
END:STANDARD
END:VTIMEZONE
BEGIN:VEVENT
DTSTART;TZID=America/Los_Angeles:20230118T110000
DTEND;TZID=America/Los_Angeles:20230118T200000
DTSTAMP:20260420T083223
CREATED:20220818T164151Z
LAST-MODIFIED:20230118T011057Z
UID:2544-1674039600-1674072000@mariemontpta.org
SUMMARY:Dine & Donate: Papa Murphy's
DESCRIPTION:When: Wednesday\, January 18th from 11 AM until 8 PM \nWho: Papa Murphy’s \nWhere: Arden & Eastern (4340 Arden Way) OR Loehmann’s Plaza (2445 Fair Oaks Blvd) \nHow: Tell the cashier you’re supporting Mariemont \nHow much: 30% of the total sales will be donated back to Mariemont PTA \nNote: Ordering online? Choose the “pay in-store” option and let the cashier know about Mariemont before you pay.
URL:https://mariemontpta.org/calendar/dine-donate-papa-murphys/
END:VEVENT
BEGIN:VEVENT
DTSTART;TZID=America/Los_Angeles:20230118T190000
DTEND;TZID=America/Los_Angeles:20230118T203000
DTSTAMP:20260420T083223
CREATED:20220821T141745Z
LAST-MODIFIED:20230118T010935Z
UID:2591-1674068400-1674073800@mariemontpta.org
SUMMARY:General PTA Meeting
DESCRIPTION:See FLASH for login details. Agenda is here.
URL:https://mariemontpta.org/calendar/general-pta-meeting-2/
END:VEVENT
END:VCALENDAR