BEGIN:VCALENDAR
VERSION:2.0
PRODID:-//Mariemont Elementary School PTA - ECPv6.15.20//NONSGML v1.0//EN
CALSCALE:GREGORIAN
METHOD:PUBLISH
X-ORIGINAL-URL:https://mariemontpta.org
X-WR-CALDESC:Events for Mariemont Elementary School PTA
REFRESH-INTERVAL;VALUE=DURATION:PT1H
X-Robots-Tag:noindex
X-PUBLISHED-TTL:PT1H
BEGIN:VTIMEZONE
TZID:America/Los_Angeles
BEGIN:DAYLIGHT
TZOFFSETFROM:-0800
TZOFFSETTO:-0700
TZNAME:PDT
DTSTART:20180311T100000
END:DAYLIGHT
BEGIN:STANDARD
TZOFFSETFROM:-0700
TZOFFSETTO:-0800
TZNAME:PST
DTSTART:20181104T090000
END:STANDARD
BEGIN:DAYLIGHT
TZOFFSETFROM:-0800
TZOFFSETTO:-0700
TZNAME:PDT
DTSTART:20190310T100000
END:DAYLIGHT
BEGIN:STANDARD
TZOFFSETFROM:-0700
TZOFFSETTO:-0800
TZNAME:PST
DTSTART:20191103T090000
END:STANDARD
BEGIN:DAYLIGHT
TZOFFSETFROM:-0800
TZOFFSETTO:-0700
TZNAME:PDT
DTSTART:20200308T100000
END:DAYLIGHT
BEGIN:STANDARD
TZOFFSETFROM:-0700
TZOFFSETTO:-0800
TZNAME:PST
DTSTART:20201101T090000
END:STANDARD
END:VTIMEZONE
BEGIN:VEVENT
DTSTART;TZID=America/Los_Angeles:20191101T084500
DTEND;TZID=America/Los_Angeles:20191101T084500
DTSTAMP:20260422T104401
CREATED:20180823T211803Z
LAST-MODIFIED:20191009T172029Z
UID:1017-1572597900-1572597900@mariemontpta.org
SUMMARY:Pajama Day\, Wellness Thursday & Candy Drive & YOGA
DESCRIPTION:It’s the day after Halloween which means … you get to wear PJs to school! Please wear your cozy PJs and shoes (no slippers). We will kick off the morning with Wellness Thursday and set up a Candy Drive for Operation Gratitude. \nOh\, and YOGA! \n 
URL:https://mariemontpta.org/calendar/pj-day/
END:VEVENT
END:VCALENDAR