BEGIN:VCALENDAR
VERSION:2.0
PRODID:-//Mariemont Elementary School PTA - ECPv6.15.20//NONSGML v1.0//EN
CALSCALE:GREGORIAN
METHOD:PUBLISH
X-WR-CALNAME:Mariemont Elementary School PTA
X-ORIGINAL-URL:https://mariemontpta.org
X-WR-CALDESC:Events for Mariemont Elementary School PTA
REFRESH-INTERVAL;VALUE=DURATION:PT1H
X-Robots-Tag:noindex
X-PUBLISHED-TTL:PT1H
BEGIN:VTIMEZONE
TZID:America/Los_Angeles
BEGIN:DAYLIGHT
TZOFFSETFROM:-0800
TZOFFSETTO:-0700
TZNAME:PDT
DTSTART:20180311T100000
END:DAYLIGHT
BEGIN:STANDARD
TZOFFSETFROM:-0700
TZOFFSETTO:-0800
TZNAME:PST
DTSTART:20181104T090000
END:STANDARD
BEGIN:DAYLIGHT
TZOFFSETFROM:-0800
TZOFFSETTO:-0700
TZNAME:PDT
DTSTART:20190310T100000
END:DAYLIGHT
BEGIN:STANDARD
TZOFFSETFROM:-0700
TZOFFSETTO:-0800
TZNAME:PST
DTSTART:20191103T090000
END:STANDARD
BEGIN:DAYLIGHT
TZOFFSETFROM:-0800
TZOFFSETTO:-0700
TZNAME:PDT
DTSTART:20200308T100000
END:DAYLIGHT
BEGIN:STANDARD
TZOFFSETFROM:-0700
TZOFFSETTO:-0800
TZNAME:PST
DTSTART:20201101T090000
END:STANDARD
END:VTIMEZONE
BEGIN:VEVENT
DTSTART;TZID=America/Los_Angeles:20190913T084500
DTEND;TZID=America/Los_Angeles:20190913T151500
DTSTAMP:20260422T203934
CREATED:20190821T182855Z
LAST-MODIFIED:20190904T210016Z
UID:1891-1568364300-1568387700@mariemontpta.org
SUMMARY:Jog-a-Thon Kick-Off
DESCRIPTION:Mustang Gallop \nMariemont’s Jog-A-Thon is kicking off soon! We need your help! If you know a local business who would like to support our school by sponsoring the event\, please email Sarah Mullins. Sponsorships begin at $250! \nWe’ll be kicking the fundraiser off with a school-wide workout lead by the fitness experts (and bringing the fun!) from Fitness Rangers! \nLook for more information about the kick-off\, student fundraising & the event in the coming weeks! 
URL:https://mariemontpta.org/calendar/jog-a-thon-kick-off/
ATTACH;FMTTYPE=image/jpeg:https://mariemontpta.org/wp-content/uploads/2019/08/jogathon-logo-e1567630806622.jpg
END:VEVENT
END:VCALENDAR