BEGIN:VCALENDAR
VERSION:2.0
PRODID:-//Mariemont Elementary School PTA - ECPv6.15.20//NONSGML v1.0//EN
CALSCALE:GREGORIAN
METHOD:PUBLISH
X-WR-CALNAME:Mariemont Elementary School PTA
X-ORIGINAL-URL:https://mariemontpta.org
X-WR-CALDESC:Events for Mariemont Elementary School PTA
REFRESH-INTERVAL;VALUE=DURATION:PT1H
X-Robots-Tag:noindex
X-PUBLISHED-TTL:PT1H
BEGIN:VTIMEZONE
TZID:America/Los_Angeles
BEGIN:DAYLIGHT
TZOFFSETFROM:-0800
TZOFFSETTO:-0700
TZNAME:PDT
DTSTART:20180311T100000
END:DAYLIGHT
BEGIN:STANDARD
TZOFFSETFROM:-0700
TZOFFSETTO:-0800
TZNAME:PST
DTSTART:20181104T090000
END:STANDARD
BEGIN:DAYLIGHT
TZOFFSETFROM:-0800
TZOFFSETTO:-0700
TZNAME:PDT
DTSTART:20190310T100000
END:DAYLIGHT
BEGIN:STANDARD
TZOFFSETFROM:-0700
TZOFFSETTO:-0800
TZNAME:PST
DTSTART:20191103T090000
END:STANDARD
BEGIN:DAYLIGHT
TZOFFSETFROM:-0800
TZOFFSETTO:-0700
TZNAME:PDT
DTSTART:20200308T100000
END:DAYLIGHT
BEGIN:STANDARD
TZOFFSETFROM:-0700
TZOFFSETTO:-0800
TZNAME:PST
DTSTART:20201101T090000
END:STANDARD
END:VTIMEZONE
BEGIN:VEVENT
DTSTART;TZID=America/Los_Angeles:20190428T083000
DTEND;TZID=America/Los_Angeles:20190428T133000
DTSTAMP:20260422T175804
CREATED:20190228T223256Z
LAST-MODIFIED:20190424T203047Z
UID:1676-1556440200-1556458200@mariemontpta.org
SUMMARY:Spring Beautification Day
DESCRIPTION:Come lend a hand to spruce up landscaping\, spread bark\, clean coat racks\, repaint benches and wall ball areas\, and more! More hands = less work \nYour help in the morning or even an hour is very much appreciated. All of this great work makes our school shine for Spring Celebration! Community Service hours are available. \nSign up now
URL:https://mariemontpta.org/calendar/spring-beautification-day/
END:VEVENT
END:VCALENDAR