BEGIN:VCALENDAR
VERSION:2.0
PRODID:-//Mariemont Elementary School PTA - ECPv6.15.20//NONSGML v1.0//EN
CALSCALE:GREGORIAN
METHOD:PUBLISH
X-ORIGINAL-URL:https://mariemontpta.org
X-WR-CALDESC:Events for Mariemont Elementary School PTA
REFRESH-INTERVAL;VALUE=DURATION:PT1H
X-Robots-Tag:noindex
X-PUBLISHED-TTL:PT1H
BEGIN:VTIMEZONE
TZID:America/Los_Angeles
BEGIN:DAYLIGHT
TZOFFSETFROM:-0800
TZOFFSETTO:-0700
TZNAME:PDT
DTSTART:20170312T100000
END:DAYLIGHT
BEGIN:STANDARD
TZOFFSETFROM:-0700
TZOFFSETTO:-0800
TZNAME:PST
DTSTART:20171105T090000
END:STANDARD
BEGIN:DAYLIGHT
TZOFFSETFROM:-0800
TZOFFSETTO:-0700
TZNAME:PDT
DTSTART:20180311T100000
END:DAYLIGHT
BEGIN:STANDARD
TZOFFSETFROM:-0700
TZOFFSETTO:-0800
TZNAME:PST
DTSTART:20181104T090000
END:STANDARD
BEGIN:DAYLIGHT
TZOFFSETFROM:-0800
TZOFFSETTO:-0700
TZNAME:PDT
DTSTART:20190310T100000
END:DAYLIGHT
BEGIN:STANDARD
TZOFFSETFROM:-0700
TZOFFSETTO:-0800
TZNAME:PST
DTSTART:20191103T090000
END:STANDARD
END:VTIMEZONE
BEGIN:VEVENT
DTSTART;TZID=America/Los_Angeles:20180823T173000
DTEND;TZID=America/Los_Angeles:20180823T192500
DTSTAMP:20260422T113157
CREATED:20180821T193859Z
LAST-MODIFIED:20180821T195426Z
UID:1013-1535045400-1535052300@mariemontpta.org
SUMMARY:Back-to-School Night
DESCRIPTION:Please join us in the Courtyard for PTA information and Logowear!
URL:https://mariemontpta.org/calendar/back-to-school-night/
LOCATION:Multi-Purpose Room
END:VEVENT
BEGIN:VEVENT
DTSTART;TZID=America/Los_Angeles:20180823T180000
DTEND;TZID=America/Los_Angeles:20180823T184500
DTSTAMP:20260422T113157
CREATED:20180801T065824Z
LAST-MODIFIED:20180814T144947Z
UID:531-1535047200-1535049900@mariemontpta.org
SUMMARY:Back-to-School Night\, Grades 1-2
DESCRIPTION:Parents\, this is your opportunity to meet your child’s teacher and see their classroom. Please go directly to your child’s classroom at 6 pm. Each classroom teacher will have a presentation about their class\, curriculum\, field trips\, and other important events planned for the school year. Don’t forget to stop by the Courtyard for light refreshments and Mariemont Logo-wear ordering. Remember\, this is a parent only event\, we will not have supervision for your child\, so sending them out to play on the playground is not an option. \nNote: This is for first and second grades only. There is another event starting at 6:40 pm for 3-5. Also\, this one is parents-only. \n 
URL:https://mariemontpta.org/calendar/back-to-school-night-grades-1-2/
LOCATION:Classroom
END:VEVENT
BEGIN:VEVENT
DTSTART;TZID=America/Los_Angeles:20180823T184500
DTEND;TZID=America/Los_Angeles:20180823T192500
DTSTAMP:20260422T113157
CREATED:20180801T070041Z
LAST-MODIFIED:20180814T145108Z
UID:534-1535049900-1535052300@mariemontpta.org
SUMMARY:Back-to-School Night\, Grades 3-5
DESCRIPTION:Parents\, this is your opportunity to meet your child’s teacher and see their classroom. Please go directly to your child’s classroom at 6:45 pm. Each classroom teacher will have a presentation about their class\, curriculum\, field trips\, and other important events planned for the school year. Don’t forget to stop by the Courtyard for light refreshments and Mariemont Logo-wear ordering. Remember\, this is a parent only event\, we will not have supervision for your child\, so sending them out to play on the playground is not an option. \nNote: This is for grades 3-5 only. There is another event starting at 6:00 pm for first and second grades. Also\, this one is parents-only. \n 
URL:https://mariemontpta.org/calendar/back-to-school-night-grades-3-5/
LOCATION:Classroom
END:VEVENT
END:VCALENDAR