BEGIN:VCALENDAR
VERSION:2.0
PRODID:-//Mariemont Elementary School PTA - ECPv6.15.20//NONSGML v1.0//EN
CALSCALE:GREGORIAN
METHOD:PUBLISH
X-ORIGINAL-URL:https://mariemontpta.org
X-WR-CALDESC:Events for Mariemont Elementary School PTA
REFRESH-INTERVAL;VALUE=DURATION:PT1H
X-Robots-Tag:noindex
X-PUBLISHED-TTL:PT1H
BEGIN:VTIMEZONE
TZID:America/Los_Angeles
BEGIN:DAYLIGHT
TZOFFSETFROM:-0800
TZOFFSETTO:-0700
TZNAME:PDT
DTSTART:20170312T100000
END:DAYLIGHT
BEGIN:STANDARD
TZOFFSETFROM:-0700
TZOFFSETTO:-0800
TZNAME:PST
DTSTART:20171105T090000
END:STANDARD
BEGIN:DAYLIGHT
TZOFFSETFROM:-0800
TZOFFSETTO:-0700
TZNAME:PDT
DTSTART:20180311T100000
END:DAYLIGHT
BEGIN:STANDARD
TZOFFSETFROM:-0700
TZOFFSETTO:-0800
TZNAME:PST
DTSTART:20181104T090000
END:STANDARD
BEGIN:DAYLIGHT
TZOFFSETFROM:-0800
TZOFFSETTO:-0700
TZNAME:PDT
DTSTART:20190310T100000
END:DAYLIGHT
BEGIN:STANDARD
TZOFFSETFROM:-0700
TZOFFSETTO:-0800
TZNAME:PST
DTSTART:20191103T090000
END:STANDARD
END:VTIMEZONE
BEGIN:VEVENT
DTSTART;TZID=America/Los_Angeles:20180816T083000
DTEND;TZID=America/Los_Angeles:20180816T093000
DTSTAMP:20260422T104426
CREATED:20180801T065424Z
LAST-MODIFIED:20180814T144842Z
UID:529-1534408200-1534411800@mariemontpta.org
SUMMARY:Back to School Parent Coffee Social
DESCRIPTION:School starts at 8:40 am! After you’ve taken your favorite first-day pictures and told your kiddo to have a great day\, please join us in the in Courtyard outside of the MP room. The PTA will be hosting our annual Back-to-School Coffee Social. This is always a fun event and a great way to meet with new parents and reconnect with friends. Coffee and other morning refreshments will be provided.
URL:https://mariemontpta.org/calendar/coffee-social/
LOCATION:Multi-Purpose Room
END:VEVENT
END:VCALENDAR